Workbook

Sheet Instruções
B2: JG EFICIÊNCIA DIGITAL | C2: Acompanhamento de propostas | D2: Acompanhamento de propostas | E2: Acompanhamento de propostas | F2: Acompanhamento de propostas | G2: Acompanhamento de propostas | H2: Acompanhamento de propostas | I2: Acompanhamento de propostas
B3: Acompanhamento de propostas — modelo gratuito | C3: Modelo gratuito da JG Eficiência Digital | D3: Modelo gratuito da JG Eficiência Digital | E3: Modelo gratuito da JG Eficiência Digital | F3: Modelo gratuito da JG Eficiência Digital | G3: Modelo gratuito da JG Eficiência Digital | H3: Modelo gratuito da JG Eficiência Digital | I3: Modelo gratuito da JG Eficiência Digital
B4: contacto@jgeficienciadigital.pt | C4: contacto@jgeficienciadigital.pt | D4: contacto@jgeficienciadigital.pt | E4: contacto@jgeficienciadigital.pt | F4: https://jgeficienciadigital.pt/ | G4: https://jgeficienciadigital.pt/ | H4: https://jgeficienciadigital.pt/ | I4: https://jgeficienciadigital.pt/
C5: Organize as propostas e o próximo contacto com cada cliente. | D5: Organize as propostas e o próximo contacto com cada cliente. | E5: Organize as propostas e o próximo contacto com cada cliente. | F5: Organize as propostas e o próximo contacto com cada cliente. | G5: Organize as propostas e o próximo contacto com cada cliente. | H5: Organize as propostas e o próximo contacto com cada cliente. | I5: Organize as propostas e o próximo contacto com cada cliente.
C6: Um registo simples para perceber o que está em aberto, o que foi aceite e onde precisa de agir. | D6: Um registo simples para perceber o que está em aberto, o que foi aceite e onde precisa de agir. | E6: Um registo simples para perceber o que está em aberto, o que foi aceite e onde precisa de agir. | F6: Um registo simples para perceber o que está em aberto, o que foi aceite e onde precisa de agir. | G6: Um registo simples para perceber o que está em aberto, o que foi aceite e onde precisa de agir. | H6: Um registo simples para perceber o que está em aberto, o que foi aceite e onde precisa de agir. | I6: Um registo simples para perceber o que está em aberto, o que foi aceite e onde precisa de agir.
C7: Um registo simples para perceber o que está em aberto, o que foi aceite e onde precisa de agir. | D7: Um registo simples para perceber o que está em aberto, o que foi aceite e onde precisa de agir. | E7: Um registo simples para perceber o que está em aberto, o que foi aceite e onde precisa de agir. | F7: Um registo simples para perceber o que está em aberto, o que foi aceite e onde precisa de agir. | G7: Um registo simples para perceber o que está em aberto, o que foi aceite e onde precisa de agir. | H7: Um registo simples para perceber o que está em aberto, o que foi aceite e onde precisa de agir. | I7: Um registo simples para perceber o que está em aberto, o que foi aceite e onde precisa de agir.
B9: Começar em quatro passos | C9: Começar em quatro passos | D9: Começar em quatro passos | E9: Começar em quatro passos | F9: Começar em quatro passos | G9: Começar em quatro passos | H9: Começar em quatro passos | I9: Começar em quatro passos
B10: 1. Explore os exemplos | C10: 1. Explore os exemplos | D10: 1. Explore os exemplos | E10: 1. Explore os exemplos | F10: 1. Explore os exemplos | G10: 1. Explore os exemplos | H10: 1. Explore os exemplos | I10: 1. Explore os exemplos
B11: Abra Propostas e veja as oito linhas fictícias. O separador Resumo acompanha automaticamente os registos. | C11: Abra Propostas e veja as oito linhas fictícias. O separador Resumo acompanha automaticamente os registos. | D11: Abra Propostas e veja as oito linhas fictícias. O separador Resumo acompanha automaticamente os registos. | E11: Abra Propostas e veja as oito linhas fictícias. O separador Resumo acompanha automaticamente os registos. | F11: Abra Propostas e veja as oito linhas fictícias. O separador Resumo acompanha automaticamente os registos. | G11: Abra Propostas e veja as oito linhas fictícias. O separador Resumo acompanha automaticamente os registos. | H11: Abra Propostas e veja as oito linhas fictícias. O separador Resumo acompanha automaticamente os registos. | I11: Abra Propostas e veja as oito linhas fictícias. O separador Resumo acompanha automaticamente os registos.
B12: Abra Propostas e veja as oito linhas fictícias. O separador Resumo acompanha automaticamente os registos. | C12: Abra Propostas e veja as oito linhas fictícias. O separador Resumo acompanha automaticamente os registos. | D12: Abra Propostas e veja as oito linhas fictícias. O separador Resumo acompanha automaticamente os registos. | E12: Abra Propostas e veja as oito linhas fictícias. O separador Resumo acompanha automaticamente os registos. | F12: Abra Propostas e veja as oito linhas fictícias. O separador Resumo acompanha automaticamente os registos. | G12: Abra Propostas e veja as oito linhas fictícias. O separador Resumo acompanha automaticamente os registos. | H12: Abra Propostas e veja as oito linhas fictícias. O separador Resumo acompanha automaticamente os registos. | I12: Abra Propostas e veja as oito linhas fictícias. O separador Resumo acompanha automaticamente os registos.
B13: 2. Use os seus dados | C13: 2. Use os seus dados | D13: 2. Use os seus dados | E13: 2. Use os seus dados | F13: 2. Use os seus dados | G13: 2. Use os seus dados | H13: 2. Use os seus dados | I13: 2. Use os seus dados
B14: Em Propostas, selecione B16:K23 e prima Delete para apagar apenas os exemplos. Não apague as colunas L e M. | C14: Em Propostas, selecione B16:K23 e prima Delete para apagar apenas os exemplos. Não apague as colunas L e M. | D14: Em Propostas, selecione B16:K23 e prima Delete para apagar apenas os exemplos. Não apague as colunas L e M. | E14: Em Propostas, selecione B16:K23 e prima Delete para apagar apenas os exemplos. Não apague as colunas L e M. | F14: Em Propostas, selecione B16:K23 e prima Delete para apagar apenas os exemplos. Não apague as colunas L e M. | G14: Em Propostas, selecione B16:K23 e prima Delete para apagar apenas os exemplos. Não apague as colunas L e M. | H14: Em Propostas, selecione B16:K23 e prima Delete para apagar apenas os exemplos. Não apague as colunas L e M. | I14: Em Propostas, selecione B16:K23 e prima Delete para apagar apenas os exemplos. Não apague as colunas L e M.
B15: Em Propostas, selecione B16:K23 e prima Delete para apagar apenas os exemplos. Não apague as colunas L e M. | C15: Em Propostas, selecione B16:K23 e prima Delete para apagar apenas os exemplos. Não apague as colunas L e M. | D15: Em Propostas, selecione B16:K23 e prima Delete para apagar apenas os exemplos. Não apague as colunas L e M. | E15: Em Propostas, selecione B16:K23 e prima Delete para apagar apenas os exemplos. Não apague as colunas L e M. | F15: Em Propostas, selecione B16:K23 e prima Delete para apagar apenas os exemplos. Não apague as colunas L e M. | G15: Em Propostas, selecione B16:K23 e prima Delete para apagar apenas os exemplos. Não apague as colunas L e M. | H15: Em Propostas, selecione B16:K23 e prima Delete para apagar apenas os exemplos. Não apague as colunas L e M. | I15: Em Propostas, selecione B16:K23 e prima Delete para apagar apenas os exemplos. Não apague as colunas L e M.
B16: 3. Registe cada proposta | C16: 3. Registe cada proposta | D16: 3. Registe cada proposta | E16: 3. Registe cada proposta | F16: 3. Registe cada proposta | G16: 3. Registe cada proposta | H16: 3. Registe cada proposta | I16: 3. Registe cada proposta
B17: Preencha uma referência única, o cliente, o serviço, o valor sem IVA e o estado. Acrescente a data de envio e o próximo contacto. | C17: Preencha uma referência única, o cliente, o serviço, o valor sem IVA e o estado. Acrescente a data de envio e o próximo contacto. | D17: Preencha uma referência única, o cliente, o serviço, o valor sem IVA e o estado. Acrescente a data de envio e o próximo contacto. | E17: Preencha uma referência única, o cliente, o serviço, o valor sem IVA e o estado. Acrescente a data de envio e o próximo contacto. | F17: Preencha uma referência única, o cliente, o serviço, o valor sem IVA e o estado. Acrescente a data de envio e o próximo contacto. | G17: Preencha uma referência única, o cliente, o serviço, o valor sem IVA e o estado. Acrescente a data de envio e o próximo contacto. | H17: Preencha uma referência única, o cliente, o serviço, o valor sem IVA e o estado. Acrescente a data de envio e o próximo contacto. | I17: Preencha uma referência única, o cliente, o serviço, o valor sem IVA e o estado. Acrescente a data de envio e o próximo contacto.
B18: Preencha uma referência única, o cliente, o serviço, o valor sem IVA e o estado. Acrescente a data de envio e o próximo contacto. | C18: Preencha uma referência única, o cliente, o serviço, o valor sem IVA e o estado. Acrescente a data de envio e o próximo contacto. | D18: Preencha uma referência única, o cliente, o serviço, o valor sem IVA e o estado. Acrescente a data de envio e o próximo contacto. | E18: Preencha uma referência única, o cliente, o serviço, o valor sem IVA e o estado. Acrescente a data de envio e o próximo contacto. | F18: Preencha uma referência única, o cliente, o serviço, o valor sem IVA e o estado. Acrescente a data de envio e o próximo contacto. | G18: Preencha uma referência única, o cliente, o serviço, o valor sem IVA e o estado. Acrescente a data de envio e o próximo contacto. | H18: Preencha uma referência única, o cliente, o serviço, o valor sem IVA e o estado. Acrescente a data de envio e o próximo contacto. | I18: Preencha uma referência única, o cliente, o serviço, o valor sem IVA e o estado. Acrescente a data de envio e o próximo contacto.
B19: 4. Reveja os próximos contactos | C19: 4. Reveja os próximos contactos | D19: 4. Reveja os próximos contactos | E19: 4. Reveja os próximos contactos | F19: 4. Reveja os próximos contactos | G19: 4. Reveja os próximos contactos | H19: 4. Reveja os próximos contactos | I19: 4. Reveja os próximos contactos
B20: Filtre Acompanhamento por Em atraso ou Contactar hoje. Após contactar o cliente, atualize a data, o estado e a próxima ação. | C20: Filtre Acompanhamento por Em atraso ou Contactar hoje. Após contactar o cliente, atualize a data, o estado e a próxima ação. | D20: Filtre Acompanhamento por Em atraso ou Contactar hoje. Após contactar o cliente, atualize a data, o estado e a próxima ação. | E20: Filtre Acompanhamento por Em atraso ou Contactar hoje. Após contactar o cliente, atualize a data, o estado e a próxima ação. | F20: Filtre Acompanhamento por Em atraso ou Contactar hoje. Após contactar o cliente, atualize a data, o estado e a próxima ação. | G20: Filtre Acompanhamento por Em atraso ou Contactar hoje. Após contactar o cliente, atualize a data, o estado e a próxima ação. | H20: Filtre Acompanhamento por Em atraso ou Contactar hoje. Após contactar o cliente, atualize a data, o estado e a próxima ação. | I20: Filtre Acompanhamento por Em atraso ou Contactar hoje. Após contactar o cliente, atualize a data, o estado e a próxima ação.
... B39: Pode usar e partilhar este modelo gratuitamente. Não requer registo nem recolhe dados automaticamente. Clientes, contactos e valores de exemplo são fictícios. Guarde uma cópia vazia antes de introduzir dados reais e partilhe apenas a cópia sem dados de clientes. Este modelo acompanha propostas; não é um programa de faturação nem o calculador interno de preços da JG. | C39: Pode usar e partilhar este modelo gratuitamente. Não requer registo nem recolhe dados automaticamente. Clientes, contactos e valores de exemplo são fictícios. Guarde uma cópia vazia antes de introduzir dados reais e partilhe apenas a cópia sem dados de clientes. Este modelo acompanha propostas; não é um programa de faturação nem o calculador interno de preços da JG. | D39: Pode usar e partilhar este modelo gratuitamente. Não requer registo nem recolhe dados automaticamente. Clientes, contactos e valores de exemplo são fictícios. Guarde uma cópia vazia antes de introduzir dados reais e partilhe apenas a cópia sem dados de clientes. Este modelo acompanha propostas; não é um programa de faturação nem o calculador interno de preços da JG. | E39: Pode usar e partilhar este modelo gratuitamente. Não requer registo nem recolhe dados automaticamente. Clientes, contactos e valores de exemplo são fictícios. Guarde uma cópia vazia antes de introduzir dados reais e partilhe apenas a cópia sem dados de clientes. Este modelo acompanha propostas; não é um programa de faturação nem o calculador interno de preços da JG. | F39: Pode usar e partilhar este modelo gratuitamente. Não requer registo nem recolhe dados automaticamente. Clientes, contactos e valores de exemplo são fictícios. Guarde uma cópia vazia antes de introduzir dados reais e partilhe apenas a cópia sem dados de clientes. Este modelo acompanha propostas; não é um programa de faturação nem o calculador interno de preços da JG. | G39: Pode usar e partilhar este modelo gratuitamente. Não requer registo nem recolhe dados automaticamente. Clientes, contactos e valores de exemplo são fictícios. Guarde uma cópia vazia antes de introduzir dados reais e partilhe apenas a cópia sem dados de clientes. Este modelo acompanha propostas; não é um programa de faturação nem o calculador interno de preços da JG. | H39: Pode usar e partilhar este modelo gratuitamente. Não requer registo nem recolhe dados automaticamente. Clientes, contactos e valores de exemplo são fictícios. Guarde uma cópia vazia antes de introduzir dados reais e partilhe apenas a cópia sem dados de clientes. Este modelo acompanha propostas; não é um programa de faturação nem o calculador interno de preços da JG. | I39: Pode usar e partilhar este modelo gratuitamente. Não requer registo nem recolhe dados automaticamente. Clientes, contactos e valores de exemplo são fictícios. Guarde uma cópia vazia antes de introduzir dados reais e partilhe apenas a cópia sem dados de clientes. Este modelo acompanha propostas; não é um programa de faturação nem o calculador interno de preços da JG.

Sheet Propostas
B2: JG EFICIÊNCIA DIGITAL | C2: Acompanhamento de propostas | D2: Acompanhamento de propostas | E2: Acompanhamento de propostas | F2: Acompanhamento de propostas | G2: Acompanhamento de propostas | H2: Acompanhamento de propostas | I2: Acompanhamento de propostas | J2: Acompanhamento de propostas | K2: Acompanhamento de propostas | L2: Acompanhamento de propostas | M2: Acompanhamento de propostas
B3: Acompanhamento de propostas — modelo gratuito | C3: JG Eficiência Digital — modelo gratuito para organizar pedidos, decisões e próximos contactos. | D3: JG Eficiência Digital — modelo gratuito para organizar pedidos, decisões e próximos contactos. | E3: JG Eficiência Digital — modelo gratuito para organizar pedidos, decisões e próximos contactos. | F3: JG Eficiência Digital — modelo gratuito para organizar pedidos, decisões e próximos contactos. | G3: JG Eficiência Digital — modelo gratuito para organizar pedidos, decisões e próximos contactos. | H3: JG Eficiência Digital — modelo gratuito para organizar pedidos, decisões e próximos contactos. | I3: JG Eficiência Digital — modelo gratuito para organizar pedidos, decisões e próximos contactos. | J3: JG Eficiência Digital — modelo gratuito para organizar pedidos, decisões e próximos contactos. | K3: JG Eficiência Digital — modelo gratuito para organizar pedidos, decisões e próximos contactos. | L3: JG Eficiência Digital — modelo gratuito para organizar pedidos, decisões e próximos contactos. | M3: JG Eficiência Digital — modelo gratuito para organizar pedidos, decisões e próximos contactos.
B4: E-MAIL contacto@jgeficienciadigital.pt | C4: E-MAIL contacto@jgeficienciadigital.pt | D4: E-MAIL contacto@jgeficienciadigital.pt | E4: E-MAIL contacto@jgeficienciadigital.pt | F4: E-MAIL contacto@jgeficienciadigital.pt | G4: E-MAIL contacto@jgeficienciadigital.pt | H4: SITE https://jgeficienciadigital.pt/ | I4: SITE https://jgeficienciadigital.pt/ | J4: SITE https://jgeficienciadigital.pt/ | K4: SITE https://jgeficienciadigital.pt/ | L4: SITE https://jgeficienciadigital.pt/ | M4: SITE https://jgeficienciadigital.pt/
B5: PROPOSTAS REGISTADAS | C5: PROPOSTAS REGISTADAS | D5: PROPOSTAS REGISTADAS | E5: VALOR EM ABERTO | F5: VALOR EM ABERTO | G5: VALOR EM ABERTO | H5: VALOR ACEITE | I5: VALOR ACEITE | J5: VALOR ACEITE | K5: CONTACTOS EM ATRASO | L5: CONTACTOS EM ATRASO | M5: CONTACTOS EM ATRASO
B6: =Resumo!D7 -> 8 | E6: =Resumo!D9 -> 2660 | H6: =Resumo!D10 -> 880 | K6: =Resumo!H7 -> 1
B9: Comece em Instruções. Substitua os exemplos nas colunas B a K; as colunas L e M são automáticas. | C9: Comece em Instruções. Substitua os exemplos nas colunas B a K; as colunas L e M são automáticas. | D9: Comece em Instruções. Substitua os exemplos nas colunas B a K; as colunas L e M são automáticas. | E9: Comece em Instruções. Substitua os exemplos nas colunas B a K; as colunas L e M são automáticas. | F9: Comece em Instruções. Substitua os exemplos nas colunas B a K; as colunas L e M são automáticas. | G9: Comece em Instruções. Substitua os exemplos nas colunas B a K; as colunas L e M são automáticas. | H9: Comece em Instruções. Substitua os exemplos nas colunas B a K; as colunas L e M são automáticas. | I9: Comece em Instruções. Substitua os exemplos nas colunas B a K; as colunas L e M são automáticas. | J9: Comece em Instruções. Substitua os exemplos nas colunas B a K; as colunas L e M são automáticas. | K9: Comece em Instruções. Substitua os exemplos nas colunas B a K; as colunas L e M são automáticas. | L9: Comece em Instruções. Substitua os exemplos nas colunas B a K; as colunas L e M são automáticas. | M9: Comece em Instruções. Substitua os exemplos nas colunas B a K; as colunas L e M são automáticas.
B10: Preencha uma referência por proposta. Use os filtros da tabela para ver apenas um estado ou os contactos em atraso. | C10: Preencha uma referência por proposta. Use os filtros da tabela para ver apenas um estado ou os contactos em atraso. | D10: Preencha uma referência por proposta. Use os filtros da tabela para ver apenas um estado ou os contactos em atraso. | E10: Preencha uma referência por proposta. Use os filtros da tabela para ver apenas um estado ou os contactos em atraso. | F10: Preencha uma referência por proposta. Use os filtros da tabela para ver apenas um estado ou os contactos em atraso. | G10: Preencha uma referência por proposta. Use os filtros da tabela para ver apenas um estado ou os contactos em atraso. | H10: Preencha uma referência por proposta. Use os filtros da tabela para ver apenas um estado ou os contactos em atraso. | I10: Preencha uma referência por proposta. Use os filtros da tabela para ver apenas um estado ou os contactos em atraso. | J10: Preencha uma referência por proposta. Use os filtros da tabela para ver apenas um estado ou os contactos em atraso. | K10: Preencha uma referência por proposta. Use os filtros da tabela para ver apenas um estado ou os contactos em atraso. | L10: Preencha uma referência por proposta. Use os filtros da tabela para ver apenas um estado ou os contactos em atraso. | M10: Preencha uma referência por proposta. Use os filtros da tabela para ver apenas um estado ou os contactos em atraso.
B11: 100 linhas disponíveis (16 a 115). Os alertas são visuais e atualizam-se ao abrir ou recalcular o Excel. | C11: 100 linhas disponíveis (16 a 115). Os alertas são visuais e atualizam-se ao abrir ou recalcular o Excel. | D11: 100 linhas disponíveis (16 a 115). Os alertas são visuais e atualizam-se ao abrir ou recalcular o Excel. | E11: 100 linhas disponíveis (16 a 115). Os alertas são visuais e atualizam-se ao abrir ou recalcular o Excel. | F11: 100 linhas disponíveis (16 a 115). Os alertas são visuais e atualizam-se ao abrir ou recalcular o Excel. | G11: 100 linhas disponíveis (16 a 115). Os alertas são visuais e atualizam-se ao abrir ou recalcular o Excel. | H11: 100 linhas disponíveis (16 a 115). Os alertas são visuais e atualizam-se ao abrir ou recalcular o Excel. | I11: 100 linhas disponíveis (16 a 115). Os alertas são visuais e atualizam-se ao abrir ou recalcular o Excel. | J11: 100 linhas disponíveis (16 a 115). Os alertas são visuais e atualizam-se ao abrir ou recalcular o Excel. | K11: 100 linhas disponíveis (16 a 115). Os alertas são visuais e atualizam-se ao abrir ou recalcular o Excel. | L11: 100 linhas disponíveis (16 a 115). Os alertas são visuais e atualizam-se ao abrir ou recalcular o Excel. | M11: 100 linhas disponíveis (16 a 115). Os alertas são visuais e atualizam-se ao abrir ou recalcular o Excel.
B13: Registo de propostas | C13: Registo de propostas | D13: Registo de propostas | E13: Registo de propostas | F13: Registo de propostas | G13: Registo de propostas | H13: Registo de propostas | I13: Registo de propostas | J13: Registo de propostas | K13: Registo de propostas | L13: Registo de propostas | M13: Registo de propostas
B14: Exemplos fictícios — valores sem IVA. Este ficheiro não calcula preços, não fatura e não envia mensagens. | C14: Exemplos fictícios — valores sem IVA. Este ficheiro não calcula preços, não fatura e não envia mensagens. | D14: Exemplos fictícios — valores sem IVA. Este ficheiro não calcula preços, não fatura e não envia mensagens. | E14: Exemplos fictícios — valores sem IVA. Este ficheiro não calcula preços, não fatura e não envia mensagens. | F14: Exemplos fictícios — valores sem IVA. Este ficheiro não calcula preços, não fatura e não envia mensagens. | G14: Exemplos fictícios — valores sem IVA. Este ficheiro não calcula preços, não fatura e não envia mensagens. | H14: Exemplos fictícios — valores sem IVA. Este ficheiro não calcula preços, não fatura e não envia mensagens. | I14: Exemplos fictícios — valores sem IVA. Este ficheiro não calcula preços, não fatura e não envia mensagens. | J14: Exemplos fictícios — valores sem IVA. Este ficheiro não calcula preços, não fatura e não envia mensagens. | K14: Exemplos fictícios — valores sem IVA. Este ficheiro não calcula preços, não fatura e não envia mensagens. | L14: Exemplos fictícios — valores sem IVA. Este ficheiro não calcula preços, não fatura e não envia mensagens. | M14: Exemplos fictícios — valores sem IVA. Este ficheiro não calcula preços, não fatura e não envia mensagens.
B15: Referência | C15: Cliente | D15: Proposta / serviço | E15: Valor sem IVA | F15: Data de envio | G15: Estado | H15: Próximo contacto | I15: Próxima ação | J15: Contacto do cliente | K15: Notas | L15: Dias até contacto | M15: Acompanhamento
B16: PROP-001 | C16: Pátio Verde | D16: Site institucional | E16: 750 | F16: 46263 | G16: Enviada | H16: 46271 | I16: Confirmar receção da proposta | J16: cliente01@example.com | K16: Exemplo fictício: aguarda resposta. | L16: =IF(OR(B16="",H16="",G16="Aceite",G16="Recusada"),"",H16-Resumo!H4) -> -2 | M16: =IF(B16="","",IF(COUNTIF(Resumo!$B$18:$B$22,G16)=0,"Escolher estado",IF(OR(G16="Aceite",G16="Recusada"),"Concluída",IF(H16="","Definir data",IF(H16<Resumo!$H$4,"Em atraso",IF(H16=Resumo!$H$4,"Contactar hoje","Agendado")))))) -> Em atraso
B17: PROP-002 | C17: Estúdio Lua | D17: Relatórios automáticos | E17: 480 | F17: 46266 | G17: Em negociação | H17: 46273 | I17: Validar os últimos ajustes | J17: cliente02@example.com | K17: Exemplo fictício: rever o âmbito. | L17: =IF(OR(B17="",H17="",G17="Aceite",G17="Recusada"),"",H17-Resumo!H4) -> 0 | M17: =IF(B17="","",IF(COUNTIF(Resumo!$B$18:$B$22,G17)=0,"Escolher estado",IF(OR(G17="Aceite",G17="Recusada"),"Concluída",IF(H17="","Definir data",IF(H17<Resumo!$H$4,"Em atraso",IF(H17=Resumo!$H$4,"Contactar hoje","Agendado")))))) -> Contactar hoje
B18: PROP-003 | C18: Casa Areal | D18: Mapa de custos | E18: 320 | F18: 46253 | G18: Aceite | I18: Confirmar data de arranque | J18: cliente03@example.com | K18: Exemplo fictício: proposta aceite. | L18: =IF(OR(B18="",H18="",G18="Aceite",G18="Recusada"),"",H18-Resumo!H4) | M18: =IF(B18="","",IF(COUNTIF(Resumo!$B$18:$B$22,G18)=0,"Escolher estado",IF(OR(G18="Aceite",G18="Recusada"),"Concluída",IF(H18="","Definir data",IF(H18<Resumo!$H$4,"Em atraso",IF(H18=Resumo!$H$4,"Contactar hoje","Agendado")))))) -> Concluída
B19: PROP-004 | C19: Atelier Brisa | D19: Site de apresentação | E19: 890 | F19: 46258 | G19: Recusada | I19: Registar o motivo da decisão | J19: cliente04@example.com | K19: Exemplo fictício: projeto adiado. | L19: =IF(OR(B19="",H19="",G19="Aceite",G19="Recusada"),"",H19-Resumo!H4) | M19: =IF(B19="","",IF(COUNTIF(Resumo!$B$18:$B$22,G19)=0,"Escolher estado",IF(OR(G19="Aceite",G19="Recusada"),"Concluída",IF(H19="","Definir data",IF(H19<Resumo!$H$4,"Em atraso",IF(H19=Resumo!$H$4,"Contactar hoje","Agendado")))))) -> Concluída
B20: PROP-005 | C20: Oficina Lume | D20: Relatório de vendas | E20: 650 | F20: 46270 | G20: Enviada | H20: 46276 | I20: Recolher dúvidas do cliente | J20: cliente05@example.com | K20: Exemplo fictício: contacto agendado. | L20: =IF(OR(B20="",H20="",G20="Aceite",G20="Recusada"),"",H20-Resumo!H4) -> 3 | M20: =IF(B20="","",IF(COUNTIF(Resumo!$B$18:$B$22,G20)=0,"Escolher estado",IF(OR(G20="Aceite",G20="Recusada"),"Concluída",IF(H20="","Definir data",IF(H20<Resumo!$H$4,"Em atraso",IF(H20=Resumo!$H$4,"Contactar hoje","Agendado")))))) -> Agendado
B21: PROP-006 | C21: Loja Horizonte | D21: Controlo de stock | E21: 420 | G21: Em preparação | I21: Concluir a proposta | J21: cliente06@example.com | K21: Exemplo fictício: ainda não enviada. | L21: =IF(OR(B21="",H21="",G21="Aceite",G21="Recusada"),"",H21-Resumo!H4) | M21: =IF(B21="","",IF(COUNTIF(Resumo!$B$18:$B$22,G21)=0,"Escolher estado",IF(OR(G21="Aceite",G21="Recusada"),"Concluída",IF(H21="","Definir data",IF(H21<Resumo!$H$4,"Em atraso",IF(H21=Resumo!$H$4,"Contactar hoje","Agendado")))))) -> Definir data
B22: PROP-007 | C22: Clínica Jardim | D22: Relatório mensal | E22: 360 | F22: 46271 | G22: Enviada | I22: Definir data de contacto | J22: cliente07@example.com | K22: Exemplo fictício: falta agendar. | L22: =IF(OR(B22="",H22="",G22="Aceite",G22="Recusada"),"",H22-Resumo!H4) | M22: =IF(B22="","",IF(COUNTIF(Resumo!$B$18:$B$22,G22)=0,"Escolher estado",IF(OR(G22="Aceite",G22="Recusada"),"Concluída",IF(H22="","Definir data",IF(H22<Resumo!$H$4,"Em atraso",IF(H22=Resumo!$H$4,"Contactar hoje","Agendado")))))) -> Definir data
B23: PROP-008 | C23: Norte Forma | D23: Mapa comercial | E23: 560 | F23: 46261 | G23: Aceite | I23: Preparar os próximos passos | J23: cliente08@example.com | K23: Exemplo fictício: proposta aceite. | L23: =IF(OR(B23="",H23="",G23="Aceite",G23="Recusada"),"",H23-Resumo!H4) | M23: =IF(B23="","",IF(COUNTIF(Resumo!$B$18:$B$22,G23)=0,"Escolher estado",IF(OR(G23="Aceite",G23="Recusada"),"Concluída",IF(H23="","Definir data",IF(H23<Resumo!$H$4,"Em atraso",IF(H23=Resumo!$H$4,"Contactar hoje","Agendado")))))) -> Concluída
L24: =IF(OR(B24="",H24="",G24="Aceite",G24="Recusada"),"",H24-Resumo!H4) | M24: =IF(B24="","",IF(COUNTIF(Resumo!$B$18:$B$22,G24)=0,"Escolher estado",IF(OR(G24="Aceite",G24="Recusada"),"Concluída",IF(H24="","Definir data",IF(H24<Resumo!$H$4,"Em atraso",IF(H24=Resumo!$H$4,"Contactar hoje","Agendado"))))))
L25: =IF(OR(B25="",H25="",G25="Aceite",G25="Recusada"),"",H25-Resumo!H4) | M25: =IF(B25="","",IF(COUNTIF(Resumo!$B$18:$B$22,G25)=0,"Escolher estado",IF(OR(G25="Aceite",G25="Recusada"),"Concluída",IF(H25="","Definir data",IF(H25<Resumo!$H$4,"Em atraso",IF(H25=Resumo!$H$4,"Contactar hoje","Agendado"))))))
L26: =IF(OR(B26="",H26="",G26="Aceite",G26="Recusada"),"",H26-Resumo!H4) | M26: =IF(B26="","",IF(COUNTIF(Resumo!$B$18:$B$22,G26)=0,"Escolher estado",IF(OR(G26="Aceite",G26="Recusada"),"Concluída",IF(H26="","Definir data",IF(H26<Resumo!$H$4,"Em atraso",IF(H26=Resumo!$H$4,"Contactar hoje","Agendado"))))))
L27: =IF(OR(B27="",H27="",G27="Aceite",G27="Recusada"),"",H27-Resumo!H4) | M27: =IF(B27="","",IF(COUNTIF(Resumo!$B$18:$B$22,G27)=0,"Escolher estado",IF(OR(G27="Aceite",G27="Recusada"),"Concluída",IF(H27="","Definir data",IF(H27<Resumo!$H$4,"Em atraso",IF(H27=Resumo!$H$4,"Contactar hoje","Agendado"))))))
L28: =IF(OR(B28="",H28="",G28="Aceite",G28="Recusada"),"",H28-Resumo!H4) | M28: =IF(B28="","",IF(COUNTIF(Resumo!$B$18:$B$22,G28)=0,"Escolher estado",IF(OR(G28="Aceite",G28="Recusada"),"Concluída",IF(H28="","Definir data",IF(H28<Resumo!$H$4,"Em atraso",IF(H28=Resumo!$H$4,"Contactar hoje","Agendado"))))))
L29: =IF(OR(B29="",H29="",G29="Aceite",G29="Recusada"),"",H29-Resumo!H4) | M29: =IF(B29="","",IF(COUNTIF(Resumo!$B$18:$B$22,G29)=0,"Escolher estado",IF(OR(G29="Aceite",G29="Recusada"),"Concluída",IF(H29="","Definir data",IF(H29<Resumo!$H$4,"Em atraso",IF(H29=Resumo!$H$4,"Contactar hoje","Agendado"))))))
L30: =IF(OR(B30="",H30="",G30="Aceite",G30="Recusada"),"",H30-Resumo!H4) | M30: =IF(B30="","",IF(COUNTIF(Resumo!$B$18:$B$22,G30)=0,"Escolher estado",IF(OR(G30="Aceite",G30="Recusada"),"Concluída",IF(H30="","Definir data",IF(H30<Resumo!$H$4,"Em atraso",IF(H30=Resumo!$H$4,"Contactar hoje","Agendado"))))))
L31: =IF(OR(B31="",H31="",G31="Aceite",G31="Recusada"),"",H31-Resumo!H4) | M31: =IF(B31="","",IF(COUNTIF(Resumo!$B$18:$B$22,G31)=0,"Escolher estado",IF(OR(G31="Aceite",G31="Recusada"),"Concluída",IF(H31="","Definir data",IF(H31<Resumo!$H$4,"Em atraso",IF(H31=Resumo!$H$4,"Contactar hoje","Agendado"))))))
L32: =IF(OR(B32="",H32="",G32="Aceite",G32="Recusada"),"",H32-Resumo!H4) | M32: =IF(B32="","",IF(COUNTIF(Resumo!$B$18:$B$22,G32)=0,"Escolher estado",IF(OR(G32="Aceite",G32="Recusada"),"Concluída",IF(H32="","Definir data",IF(H32<Resumo!$H$4,"Em atraso",IF(H32=Resumo!$H$4,"Contactar hoje","Agendado"))))))
L33: =IF(OR(B33="",H33="",G33="Aceite",G33="Recusada"),"",H33-Resumo!H4) | M33: =IF(B33="","",IF(COUNTIF(Resumo!$B$18:$B$22,G33)=0,"Escolher estado",IF(OR(G33="Aceite",G33="Recusada"),"Concluída",IF(H33="","Definir data",IF(H33<Resumo!$H$4,"Em atraso",IF(H33=Resumo!$H$4,"Contactar hoje","Agendado"))))))
L34: =IF(OR(B34="",H34="",G34="Aceite",G34="Recusada"),"",H34-Resumo!H4) | M34: =IF(B34="","",IF(COUNTIF(Resumo!$B$18:$B$22,G34)=0,"Escolher estado",IF(OR(G34="Aceite",G34="Recusada"),"Concluída",IF(H34="","Definir data",IF(H34<Resumo!$H$4,"Em atraso",IF(H34=Resumo!$H$4,"Contactar hoje","Agendado"))))))
L35: =IF(OR(B35="",H35="",G35="Aceite",G35="Recusada"),"",H35-Resumo!H4) | M35: =IF(B35="","",IF(COUNTIF(Resumo!$B$18:$B$22,G35)=0,"Escolher estado",IF(OR(G35="Aceite",G35="Recusada"),"Concluída",IF(H35="","Definir data",IF(H35<Resumo!$H$4,"Em atraso",IF(H35=Resumo!$H$4,"Contactar hoje","Agendado"))))))
L36: =IF(OR(B36="",H36="",G36="Aceite",G36="Recusada"),"",H36-Resumo!H4) | M36: =IF(B36="","",IF(COUNTIF(Resumo!$B$18:$B$22,G36)=0,"Escolher estado",IF(OR(G36="Aceite",G36="Recusada"),"Concluída",IF(H36="","Definir data",IF(H36<Resumo!$H$4,"Em atraso",IF(H36=Resumo!$H$4,"Contactar hoje","Agendado"))))))
L37: =IF(OR(B37="",H37="",G37="Aceite",G37="Recusada"),"",H37-Resumo!H4) | M37: =IF(B37="","",IF(COUNTIF(Resumo!$B$18:$B$22,G37)=0,"Escolher estado",IF(OR(G37="Aceite",G37="Recusada"),"Concluída",IF(H37="","Definir data",IF(H37<Resumo!$H$4,"Em atraso",IF(H37=Resumo!$H$4,"Contactar hoje","Agendado"))))))
L38: =IF(OR(B38="",H38="",G38="Aceite",G38="Recusada"),"",H38-Resumo!H4) | M38: =IF(B38="","",IF(COUNTIF(Resumo!$B$18:$B$22,G38)=0,"Escolher estado",IF(OR(G38="Aceite",G38="Recusada"),"Concluída",IF(H38="","Definir data",IF(H38<Resumo!$H$4,"Em atraso",IF(H38=Resumo!$H$4,"Contactar hoje","Agendado"))))))
L39: =IF(OR(B39="",H39="",G39="Aceite",G39="Recusada"),"",H39-Resumo!H4) | M39: =IF(B39="","",IF(COUNTIF(Resumo!$B$18:$B$22,G39)=0,"Escolher estado",IF(OR(G39="Aceite",G39="Recusada"),"Concluída",IF(H39="","Definir data",IF(H39<Resumo!$H$4,"Em atraso",IF(H39=Resumo!$H$4,"Contactar hoje","Agendado"))))))
L40: =IF(OR(B40="",H40="",G40="Aceite",G40="Recusada"),"",H40-Resumo!H4) | M40: =IF(B40="","",IF(COUNTIF(Resumo!$B$18:$B$22,G40)=0,"Escolher estado",IF(OR(G40="Aceite",G40="Recusada"),"Concluída",IF(H40="","Definir data",IF(H40<Resumo!$H$4,"Em atraso",IF(H40=Resumo!$H$4,"Contactar hoje","Agendado"))))))
L41: =IF(OR(B41="",H41="",G41="Aceite",G41="Recusada"),"",H41-Resumo!H4) | M41: =IF(B41="","",IF(COUNTIF(Resumo!$B$18:$B$22,G41)=0,"Escolher estado",IF(OR(G41="Aceite",G41="Recusada"),"Concluída",IF(H41="","Definir data",IF(H41<Resumo!$H$4,"Em atraso",IF(H41=Resumo!$H$4,"Contactar hoje","Agendado"))))))
L42: =IF(OR(B42="",H42="",G42="Aceite",G42="Recusada"),"",H42-Resumo!H4) | M42: =IF(B42="","",IF(COUNTIF(Resumo!$B$18:$B$22,G42)=0,"Escolher estado",IF(OR(G42="Aceite",G42="Recusada"),"Concluída",IF(H42="","Definir data",IF(H42<Resumo!$H$4,"Em atraso",IF(H42=Resumo!$H$4,"Contactar hoje","Agendado"))))))
L43: =IF(OR(B43="",H43="",G43="Aceite",G43="Recusada"),"",H43-Resumo!H4) | M43: =IF(B43="","",IF(COUNTIF(Resumo!$B$18:$B$22,G43)=0,"Escolher estado",IF(OR(G43="Aceite",G43="Recusada"),"Concluída",IF(H43="","Definir data",IF(H43<Resumo!$H$4,"Em atraso",IF(H43=Resumo!$H$4,"Contactar hoje","Agendado"))))))
L44: =IF(OR(B44="",H44="",G44="Aceite",G44="Recusada"),"",H44-Resumo!H4) | M44: =IF(B44="","",IF(COUNTIF(Resumo!$B$18:$B$22,G44)=0,"Escolher estado",IF(OR(G44="Aceite",G44="Recusada"),"Concluída",IF(H44="","Definir data",IF(H44<Resumo!$H$4,"Em atraso",IF(H44=Resumo!$H$4,"Contactar hoje","Agendado"))))))
...

Sheet Resumo
B2: JG EFICIÊNCIA DIGITAL | C2: Resumo das propostas | D2: Resumo das propostas | E2: Resumo das propostas | F2: Resumo das propostas | G2: Resumo das propostas | H2: Resumo das propostas | I2: Resumo das propostas
B3: Resumo das propostas — valores sem IVA | C3: JG Eficiência Digital — visão global do registo, sem IVA | D3: JG Eficiência Digital — visão global do registo, sem IVA | E3: JG Eficiência Digital — visão global do registo, sem IVA | F3: JG Eficiência Digital — visão global do registo, sem IVA | G3: JG Eficiência Digital — visão global do registo, sem IVA | H3: JG Eficiência Digital — visão global do registo, sem IVA | I3: JG Eficiência Digital — visão global do registo, sem IVA
F4: Data dos alertas | H4: =TODAY() -> 46273
B5: contacto@jgeficienciadigital.pt | C5: contacto@jgeficienciadigital.pt | D5: contacto@jgeficienciadigital.pt | E5: contacto@jgeficienciadigital.pt | F5: https://jgeficienciadigital.pt/ | G5: https://jgeficienciadigital.pt/ | H5: https://jgeficienciadigital.pt/ | I5: https://jgeficienciadigital.pt/
B6: Propostas e valores | C6: Propostas e valores | D6: Propostas e valores | F6: Próximos contactos | G6: Próximos contactos | H6: Próximos contactos | I6: Próximos contactos
B7: Propostas registadas | D7: =COUNTIF(Propostas!$B$16:$B$115,"<>") -> 8 | F7: Em atraso | H7: =COUNTIF(Propostas!$M$16:$M$115,"Em atraso") -> 1
B8: Valor registado | D8: =SUMIFS(Propostas!$E$16:$E$115,Propostas!$B$16:$B$115,"<>") -> 4430 | F8: Para hoje | H8: =COUNTIF(Propostas!$M$16:$M$115,"Contactar hoje") -> 1
B9: Valor em aberto | D9: =SUM(D18:D20) -> 2660 | F9: Sem data definida | H9: =COUNTIF(Propostas!$M$16:$M$115,"Definir data") -> 2
B10: Valor aceite | D10: =D21 -> 880 | F10: Agendados | H10: =COUNTIF(Propostas!$M$16:$M$115,"Agendado") -> 1
B11: Propostas aceites | D11: =C21 -> 2 | F11: Estado por preencher | H11: =COUNTIF(Propostas!$M$16:$M$115,"Escolher estado") -> 0
B12: Taxa de aceitação | D12: =IF(SUM(C21:C22)=0,"—",C21/SUM(C21:C22)) -> 0.66666667
B14: Em aberto = Em preparação + Enviada + Em negociação. Aceite não significa faturado nem recebido. Taxa de aceitação = propostas aceites ÷ (aceites + recusadas). Sem decisões, aparece um traço. | C14: Em aberto = Em preparação + Enviada + Em negociação. Aceite não significa faturado nem recebido. Taxa de aceitação = propostas aceites ÷ (aceites + recusadas). Sem decisões, aparece um traço. | D14: Em aberto = Em preparação + Enviada + Em negociação. Aceite não significa faturado nem recebido. Taxa de aceitação = propostas aceites ÷ (aceites + recusadas). Sem decisões, aparece um traço. | E14: Em aberto = Em preparação + Enviada + Em negociação. Aceite não significa faturado nem recebido. Taxa de aceitação = propostas aceites ÷ (aceites + recusadas). Sem decisões, aparece um traço. | F14: Em aberto = Em preparação + Enviada + Em negociação. Aceite não significa faturado nem recebido. Taxa de aceitação = propostas aceites ÷ (aceites + recusadas). Sem decisões, aparece um traço. | G14: Em aberto = Em preparação + Enviada + Em negociação. Aceite não significa faturado nem recebido. Taxa de aceitação = propostas aceites ÷ (aceites + recusadas). Sem decisões, aparece um traço. | H14: Em aberto = Em preparação + Enviada + Em negociação. Aceite não significa faturado nem recebido. Taxa de aceitação = propostas aceites ÷ (aceites + recusadas). Sem decisões, aparece um traço. | I14: Em aberto = Em preparação + Enviada + Em negociação. Aceite não significa faturado nem recebido. Taxa de aceitação = propostas aceites ÷ (aceites + recusadas). Sem decisões, aparece um traço.
B15: Em aberto = Em preparação + Enviada + Em negociação. Aceite não significa faturado nem recebido. Taxa de aceitação = propostas aceites ÷ (aceites + recusadas). Sem decisões, aparece um traço. | C15: Em aberto = Em preparação + Enviada + Em negociação. Aceite não significa faturado nem recebido. Taxa de aceitação = propostas aceites ÷ (aceites + recusadas). Sem decisões, aparece um traço. | D15: Em aberto = Em preparação + Enviada + Em negociação. Aceite não significa faturado nem recebido. Taxa de aceitação = propostas aceites ÷ (aceites + recusadas). Sem decisões, aparece um traço. | E15: Em aberto = Em preparação + Enviada + Em negociação. Aceite não significa faturado nem recebido. Taxa de aceitação = propostas aceites ÷ (aceites + recusadas). Sem decisões, aparece um traço. | F15: Em aberto = Em preparação + Enviada + Em negociação. Aceite não significa faturado nem recebido. Taxa de aceitação = propostas aceites ÷ (aceites + recusadas). Sem decisões, aparece um traço. | G15: Em aberto = Em preparação + Enviada + Em negociação. Aceite não significa faturado nem recebido. Taxa de aceitação = propostas aceites ÷ (aceites + recusadas). Sem decisões, aparece um traço. | H15: Em aberto = Em preparação + Enviada + Em negociação. Aceite não significa faturado nem recebido. Taxa de aceitação = propostas aceites ÷ (aceites + recusadas). Sem decisões, aparece um traço. | I15: Em aberto = Em preparação + Enviada + Em negociação. Aceite não significa faturado nem recebido. Taxa de aceitação = propostas aceites ÷ (aceites + recusadas). Sem decisões, aparece um traço.
B17: Estado | C17: N.º de propostas | D17: Valor sem IVA
B18: Em preparação | C18: =COUNTIFS(Propostas!$B$16:$B$115,"<>",Propostas!$G$16:$G$115,B18) -> 1 | D18: =SUMIFS(Propostas!$E$16:$E$115,Propostas!$B$16:$B$115,"<>",Propostas!$G$16:$G$115,B18) -> 420
B19: Enviada | C19: =COUNTIFS(Propostas!$B$16:$B$115,"<>",Propostas!$G$16:$G$115,B19) -> 3 | D19: =SUMIFS(Propostas!$E$16:$E$115,Propostas!$B$16:$B$115,"<>",Propostas!$G$16:$G$115,B19) -> 1760
B20: Em negociação | C20: =COUNTIFS(Propostas!$B$16:$B$115,"<>",Propostas!$G$16:$G$115,B20) -> 1 | D20: =SUMIFS(Propostas!$E$16:$E$115,Propostas!$B$16:$B$115,"<>",Propostas!$G$16:$G$115,B20) -> 480
B21: Aceite | C21: =COUNTIFS(Propostas!$B$16:$B$115,"<>",Propostas!$G$16:$G$115,B21) -> 2 | D21: =SUMIFS(Propostas!$E$16:$E$115,Propostas!$B$16:$B$115,"<>",Propostas!$G$16:$G$115,B21) -> 880
B22: Recusada | C22: =COUNTIFS(Propostas!$B$16:$B$115,"<>",Propostas!$G$16:$G$115,B22) -> 1 | D22: =SUMIFS(Propostas!$E$16:$E$115,Propostas!$B$16:$B$115,"<>",Propostas!$G$16:$G$115,B22) -> 890
B24: TOTAL | C24: =SUM(C18:C22) -> 8 | D24: =SUM(D18:D22) -> 4430
B31: Para agir: abra Propostas e utilize o filtro Acompanhamento. Os alertas ignoram propostas aceites e recusadas. Os totais incluem todos os registos com referência, mesmo quando a tabela está filtrada. Preencha o estado e o valor para obter um resumo completo. Exemplos fictícios preparados em setembro de 2026. Ao abrir o ficheiro noutra data, os alertas podem mudar. | C31: Para agir: abra Propostas e utilize o filtro Acompanhamento. Os alertas ignoram propostas aceites e recusadas. Os totais incluem todos os registos com referência, mesmo quando a tabela está filtrada. Preencha o estado e o valor para obter um resumo completo. Exemplos fictícios preparados em setembro de 2026. Ao abrir o ficheiro noutra data, os alertas podem mudar. | D31: Para agir: abra Propostas e utilize o filtro Acompanhamento. Os alertas ignoram propostas aceites e recusadas. Os totais incluem todos os registos com referência, mesmo quando a tabela está filtrada. Preencha o estado e o valor para obter um resumo completo. Exemplos fictícios preparados em setembro de 2026. Ao abrir o ficheiro noutra data, os alertas podem mudar. | E31: Para agir: abra Propostas e utilize o filtro Acompanhamento. Os alertas ignoram propostas aceites e recusadas. Os totais incluem todos os registos com referência, mesmo quando a tabela está filtrada. Preencha o estado e o valor para obter um resumo completo. Exemplos fictícios preparados em setembro de 2026. Ao abrir o ficheiro noutra data, os alertas podem mudar. | F31: Para agir: abra Propostas e utilize o filtro Acompanhamento. Os alertas ignoram propostas aceites e recusadas. Os totais incluem todos os registos com referência, mesmo quando a tabela está filtrada. Preencha o estado e o valor para obter um resumo completo. Exemplos fictícios preparados em setembro de 2026. Ao abrir o ficheiro noutra data, os alertas podem mudar. | G31: Para agir: abra Propostas e utilize o filtro Acompanhamento. Os alertas ignoram propostas aceites e recusadas. Os totais incluem todos os registos com referência, mesmo quando a tabela está filtrada. Preencha o estado e o valor para obter um resumo completo. Exemplos fictícios preparados em setembro de 2026. Ao abrir o ficheiro noutra data, os alertas podem mudar. | H31: Para agir: abra Propostas e utilize o filtro Acompanhamento. Os alertas ignoram propostas aceites e recusadas. Os totais incluem todos os registos com referência, mesmo quando a tabela está filtrada. Preencha o estado e o valor para obter um resumo completo. Exemplos fictícios preparados em setembro de 2026. Ao abrir o ficheiro noutra data, os alertas podem mudar. | I31: Para agir: abra Propostas e utilize o filtro Acompanhamento. Os alertas ignoram propostas aceites e recusadas. Os totais incluem todos os registos com referência, mesmo quando a tabela está filtrada. Preencha o estado e o valor para obter um resumo completo. Exemplos fictícios preparados em setembro de 2026. Ao abrir o ficheiro noutra data, os alertas podem mudar.
B32: Para agir: abra Propostas e utilize o filtro Acompanhamento. Os alertas ignoram propostas aceites e recusadas. Os totais incluem todos os registos com referência, mesmo quando a tabela está filtrada. Preencha o estado e o valor para obter um resumo completo. Exemplos fictícios preparados em setembro de 2026. Ao abrir o ficheiro noutra data, os alertas podem mudar. | C32: Para agir: abra Propostas e utilize o filtro Acompanhamento. Os alertas ignoram propostas aceites e recusadas. Os totais incluem todos os registos com referência, mesmo quando a tabela está filtrada. Preencha o estado e o valor para obter um resumo completo. Exemplos fictícios preparados em setembro de 2026. Ao abrir o ficheiro noutra data, os alertas podem mudar. | D32: Para agir: abra Propostas e utilize o filtro Acompanhamento. Os alertas ignoram propostas aceites e recusadas. Os totais incluem todos os registos com referência, mesmo quando a tabela está filtrada. Preencha o estado e o valor para obter um resumo completo. Exemplos fictícios preparados em setembro de 2026. Ao abrir o ficheiro noutra data, os alertas podem mudar. | E32: Para agir: abra Propostas e utilize o filtro Acompanhamento. Os alertas ignoram propostas aceites e recusadas. Os totais incluem todos os registos com referência, mesmo quando a tabela está filtrada. Preencha o estado e o valor para obter um resumo completo. Exemplos fictícios preparados em setembro de 2026. Ao abrir o ficheiro noutra data, os alertas podem mudar. | F32: Para agir: abra Propostas e utilize o filtro Acompanhamento. Os alertas ignoram propostas aceites e recusadas. Os totais incluem todos os registos com referência, mesmo quando a tabela está filtrada. Preencha o estado e o valor para obter um resumo completo. Exemplos fictícios preparados em setembro de 2026. Ao abrir o ficheiro noutra data, os alertas podem mudar. | G32: Para agir: abra Propostas e utilize o filtro Acompanhamento. Os alertas ignoram propostas aceites e recusadas. Os totais incluem todos os registos com referência, mesmo quando a tabela está filtrada. Preencha o estado e o valor para obter um resumo completo. Exemplos fictícios preparados em setembro de 2026. Ao abrir o ficheiro noutra data, os alertas podem mudar. | H32: Para agir: abra Propostas e utilize o filtro Acompanhamento. Os alertas ignoram propostas aceites e recusadas. Os totais incluem todos os registos com referência, mesmo quando a tabela está filtrada. Preencha o estado e o valor para obter um resumo completo. Exemplos fictícios preparados em setembro de 2026. Ao abrir o ficheiro noutra data, os alertas podem mudar. | I32: Para agir: abra Propostas e utilize o filtro Acompanhamento. Os alertas ignoram propostas aceites e recusadas. Os totais incluem todos os registos com referência, mesmo quando a tabela está filtrada. Preencha o estado e o valor para obter um resumo completo. Exemplos fictícios preparados em setembro de 2026. Ao abrir o ficheiro noutra data, os alertas podem mudar.
B33: Para agir: abra Propostas e utilize o filtro Acompanhamento. Os alertas ignoram propostas aceites e recusadas. Os totais incluem todos os registos com referência, mesmo quando a tabela está filtrada. Preencha o estado e o valor para obter um resumo completo. Exemplos fictícios preparados em setembro de 2026. Ao abrir o ficheiro noutra data, os alertas podem mudar. | C33: Para agir: abra Propostas e utilize o filtro Acompanhamento. Os alertas ignoram propostas aceites e recusadas. Os totais incluem todos os registos com referência, mesmo quando a tabela está filtrada. Preencha o estado e o valor para obter um resumo completo. Exemplos fictícios preparados em setembro de 2026. Ao abrir o ficheiro noutra data, os alertas podem mudar. | D33: Para agir: abra Propostas e utilize o filtro Acompanhamento. Os alertas ignoram propostas aceites e recusadas. Os totais incluem todos os registos com referência, mesmo quando a tabela está filtrada. Preencha o estado e o valor para obter um resumo completo. Exemplos fictícios preparados em setembro de 2026. Ao abrir o ficheiro noutra data, os alertas podem mudar. | E33: Para agir: abra Propostas e utilize o filtro Acompanhamento. Os alertas ignoram propostas aceites e recusadas. Os totais incluem todos os registos com referência, mesmo quando a tabela está filtrada. Preencha o estado e o valor para obter um resumo completo. Exemplos fictícios preparados em setembro de 2026. Ao abrir o ficheiro noutra data, os alertas podem mudar. | F33: Para agir: abra Propostas e utilize o filtro Acompanhamento. Os alertas ignoram propostas aceites e recusadas. Os totais incluem todos os registos com referência, mesmo quando a tabela está filtrada. Preencha o estado e o valor para obter um resumo completo. Exemplos fictícios preparados em setembro de 2026. Ao abrir o ficheiro noutra data, os alertas podem mudar. | G33: Para agir: abra Propostas e utilize o filtro Acompanhamento. Os alertas ignoram propostas aceites e recusadas. Os totais incluem todos os registos com referência, mesmo quando a tabela está filtrada. Preencha o estado e o valor para obter um resumo completo. Exemplos fictícios preparados em setembro de 2026. Ao abrir o ficheiro noutra data, os alertas podem mudar. | H33: Para agir: abra Propostas e utilize o filtro Acompanhamento. Os alertas ignoram propostas aceites e recusadas. Os totais incluem todos os registos com referência, mesmo quando a tabela está filtrada. Preencha o estado e o valor para obter um resumo completo. Exemplos fictícios preparados em setembro de 2026. Ao abrir o ficheiro noutra data, os alertas podem mudar. | I33: Para agir: abra Propostas e utilize o filtro Acompanhamento. Os alertas ignoram propostas aceites e recusadas. Os totais incluem todos os registos com referência, mesmo quando a tabela está filtrada. Preencha o estado e o valor para obter um resumo completo. Exemplos fictícios preparados em setembro de 2026. Ao abrir o ficheiro noutra data, os alertas podem mudar.
B34: JG EFICIÊNCIA DIGITAL | C34: JG EFICIÊNCIA DIGITAL | D34: JG EFICIÊNCIA DIGITAL | E34: JG EFICIÊNCIA DIGITAL | F34: JG EFICIÊNCIA DIGITAL | G34: JG EFICIÊNCIA DIGITAL | H34: JG EFICIÊNCIA DIGITAL | I34: JG EFICIÊNCIA DIGITAL
B35: contacto@jgeficienciadigital.pt | C35: contacto@jgeficienciadigital.pt | D35: contacto@jgeficienciadigital.pt | E35: contacto@jgeficienciadigital.pt | F35: https://jgeficienciadigital.pt/ | G35: https://jgeficienciadigital.pt/ | H35: https://jgeficienciadigital.pt/ | I35: https://jgeficienciadigital.pt/
